Workbook

Sheet Battle
A1: Haypi Kingdom Unit Calculator
F2: Link to this topic in forms
A3: Indicates Field to Fill in
A5: Variables | F5: Basic Unit Stats
A6: Attributes | F6: Unit | G6: Attack | H6: Defense | I6: Speed | J6: Range | K6: Health | L6: Carry
A7: Attack | B7: 20 | C7: =B7*0.005 -> 0.1 | D7: Multiplier | F7: Infantry | G7: 75 | H7: 75 | I7: 150 | J7: 25 | K7: 150 | L7: 80
A8: Defense | B8: 20 | C8: =B8*0.005 -> 0.1 | F8: Cavalry | G8: 175 | H8: 175 | I8: 300 | J8: 40 | K8: 500 | L8: 100
A9: Speed | B9: 20 | C9: =B9*0.01 -> 0.2 | F9: Archer | G9: 60 | H9: 25 | I9: 125 | J9: 600 | K9: 125 | L9: 40
A10: Fortune | B10: 0 | C10: NA | F10: Catapult | G10: 300 | H10: 100 | I10: 50 | J10: 800 | K10: 450 | L10: 40
A11: Your technology Level | F11: Your Adjusted Stats
A12: Technology Level | F12: Unit | G12: Attack | H12: Defense | I12: Speed | J12: Range | K12: Health | L12: Carry
A13: Attack | B13: 0 | C13: =B13*0.02 -> 0 | D13: Multiplier | F13: Infantry | G13: =$G7*(1+$B$7/100+$C$13) -> 90 | H13: =$H7*(1+$B$8/100+$C$14) -> 90 | I13: =$I7*(1+$B$9/100+$C$15) -> 180 | J13: =J7*(1+$C$16) -> 25 | K13: =$K$7*(1+$B$8/100+$C$14) -> 180 | L13: 80
A14: Defense | B14: 0 | C14: =B14*0.02 -> 0 | F14: Cavalry | G14: =$G8*(1+$B$7/100+$C$13) -> 210 | H14: =$H8*(1+$B$8/100+$C$14) -> 210 | I14: =$I8*(1+$B$9/100+$C$15) -> 360 | J14: =J8*(1+$C$16) -> 40 | K14: 500 | L14: 100
A15: Speed | B15: 0 | C15: =B15*0.03 -> 0 | F15: Archer | G15: =$G9*(1+$B$7/100+$C$13) -> 72 | H15: =$H9*(1+$B$8/100+$C$14) -> 30 | I15: =$I9*(1+$B$9/100+$C$15) -> 150 | J15: =J9*(1+$C$16) -> 600 | K15: 125 | L15: 40
A16: Range | B16: 0 | C16: =B16*0.02 -> 0 | F16: Catapult | G16: =$G10*(1+$B$7/100+$C$13) -> 360 | H16: =$H10*(1+$B$8/100+$C$14) -> 120 | I16: =$I10*(1+$B$9/100+$C$15) -> 60 | J16: =J10*(1+$C$16) -> 800 | K16: 450 | L16: 40
A19: Battlefield Length | D19: Enter Battlefield length | G19: Turns for your troops to Move to back row | J19: Turns to attack back row
A20: Highest unit on battlefield applies
A21: Infantry | B21: =J13+300 -> 325 | D21: Here -> | E21: 1100 | G21: Infantry | H21: =ROUNDUP($E$21/I13,0) -> 7 | K21: =ROUNDUP(($E$21-J13)/I13,0) -> 6
A22: Cavalry | B22: =J14+300 -> 340 | G22: Cavalry | H22: =ROUNDUP($E$21/I14,0) -> 4 | K22: =ROUNDUP(($E$21-J14)/I14,0) -> 3
A23: Archers | B23: =J15+300 -> 900 | G23: Archer | H23: =ROUNDUP($E$21/I15,0) -> 8 | K23: =ROUNDUP(($E$21-J15)/I15,0) -> 4
A24: Catapult | B24: =J16+300 -> 1100 | G24: Catapult | H24: =ROUNDUP($E$21/I16,0) -> 19 | K24: =ROUNDUP(($E$21-J16)/I16,0) -> 5
A25: Turret lvl 1 | B25: 900
A26: Turret lvl 2 | B26: 950 | G26: Turns for NPC troops to Move to back row | J26: Turns for NPC attack back row
A27: Turret lvl 3 | B27: 1000
A28: Turret lvl 4 | B28: 1050
A29: Turret lvl 5 | B29: 1100 | G29: Infantry | H29: =ROUNDUP($E$21/I7,0) -> 8 | K29: =ROUNDUP(($E$21-J7)/I7,0) -> 8
A30: Turret lvl 6 | B30: 1150 | G30: Cavalry | H30: =ROUNDUP($E$21/I8,0) -> 4 | K30: =ROUNDUP(($E$21-J8)/I8,0) -> 4
A31: Turret lvl 7 | B31: 1200 | G31: Archer | H31: =ROUNDUP($E$21/I9,0) -> 9 | K31: =ROUNDUP(($E$21-J9)/I9,0) -> 4
A32: Turret lvl 8 | B32: 1250 | G32: Catapult | H32: =ROUNDUP($E$21/I10,0) -> 22 | K32: =ROUNDUP(($E$21-J10)/I10,0) -> 6
A33: Turret lvl 9 | B33: 1300
A34: Turret lvl 10 | B34: 1350
A36: Estimated NPC Kills
D37: Estimated Number of NPC troops killed by your troops
F38: Enemy Troops
A39: Number of your troops | F39: Infantry | G39: Cavalry | H39: Archers | I39: Cats
A40: Infantry | B40: 1000 | D40: Your Troops | E40: Infantry | F40: =(Table16[[#This Row],[Column2]]*G13*AtkAdjust!C4)/225 -> 400 | G40: =(Table16[[#This Row],[Column2]]*$G13*AtkAdjust!D4)/675 -> 200 | H40: =(Table16[[#This Row],[Column2]]*$G13*AtkAdjust!E4)/150 -> 600 | I40: =((Table16[[#This Row],[Column2]])*($G13)*(AtkAdjust!F4))/550 -> 196.36364
A41: Cavalry | B41: 1000 | E41: Cavalry | F41: =(Table16[[#This Row],[Column2]]*G14*AtkAdjust!C5)/225 -> 933.33333 | G41: =(Table16[[#This Row],[Column2]]*$G14*AtkAdjust!D5)/675 -> 311.11111 | H41: =(Table16[[#This Row],[Column2]]*$G14*AtkAdjust!E5)/150 -> 1680 | I41: =((Table16[[#This Row],[Column2]])*($G14)*(AtkAdjust!F5))/550 -> 572.72727
A42: Archers | B42: 1000 | E42: Archers | F42: =(Table16[[#This Row],[Column2]]*G15*AtkAdjust!C6)/225 -> 246.4 | G42: =(Table16[[#This Row],[Column2]]*$G15*AtkAdjust!D6)/675 -> 106.66667 | H42: =(Table16[[#This Row],[Column2]]*$G15*AtkAdjust!E6)/150 -> 480 | I42: =((Table16[[#This Row],[Column2]])*($G15)*(AtkAdjust!F6))/550 -> 130.90909
A43: Catapults | B43: 1000 | E43: Catapults | F43: =(Table16[[#This Row],[Column2]]*G16*AtkAdjust!C7)/225 -> 1600 | G43: =(Table16[[#This Row],[Column2]]*$G16*AtkAdjust!D7)/675 -> 533.33333 | H43: =(Table16[[#This Row],[Column2]]*$G16*AtkAdjust!E7)/150 -> 2400 | I43: =((Table16[[#This Row],[Column2]])*($G16)*(AtkAdjust!F7))/550 -> 654.54545
A45: Maximum Carry
A46: Combined | B46: =(B40*L7+B41*L8+B42*L9+B43*L10) -> 260000
A47: Of each Resource | B47: =B46/4 -> 65000

Sheet AtkAdjust
A1: Troop Advantages
E2: Defending Unit
C3: Infantry | D3: Cavalry | E3: Arhers | F3: Cataplults | G3: Traps | H3: Turrets
A4: Attacking Unit | B4: Infantry | C4: 1 | D4: 1.5 | E4: 1 | F4: 1.2 | G4: 1 | H4: 1
B5: Cavalry | C5: 1 | D5: 1 | E5: 1.2 | F5: 1.5 | G5: 1 | H5: 1
B6: Archers | C6: 0.77 | D6: 1 | E6: 1 | F6: 1 | G6: 1 | H6: 0.2
B7: Catapults | C7: 1 | D7: 1 | E7: 1 | F7: 1 | G7: 1 | H7: 0.3
B8: Traps | C8: 1 | D8: 1 | E8: 1 | F8: 1 | G8: NA | H8: NA
B9: Turrets | C9: 1 | D9: 1 | E9: 1 | F9: 1 | G9: NA | H9: NA

Sheet Credits
A1: Special Thanks Go out to…
A2: Nathan05 | B2: For clarifying Battlefield size without Catapults
A3: Caladan
A4: Taems96 | B4: For guides which made this spreadsheet possible
A5: Nathan05
A6: Uranos
A7: nIcKrOx | B7: For digging up the AtkAdjust info from the forms
A8: Arythy | B8: Debugging errors in V.1.0
